BEGIN:VCALENDAR
VERSION:2.0
PRODID:-//Cal-HOSA - ECPv6.15.20//NONSGML v1.0//EN
CALSCALE:GREGORIAN
METHOD:PUBLISH
X-WR-CALNAME:Cal-HOSA
X-ORIGINAL-URL:https://www.cal-hosa.org
X-WR-CALDESC:Events for Cal-HOSA
REFRESH-INTERVAL;VALUE=DURATION:PT1H
X-Robots-Tag:noindex
X-PUBLISHED-TTL:PT1H
BEGIN:VTIMEZONE
TZID:America/Los_Angeles
BEGIN:DAYLIGHT
TZOFFSETFROM:-0800
TZOFFSETTO:-0700
TZNAME:PDT
DTSTART:20240310T100000
END:DAYLIGHT
BEGIN:STANDARD
TZOFFSETFROM:-0700
TZOFFSETTO:-0800
TZNAME:PST
DTSTART:20241103T090000
END:STANDARD
BEGIN:DAYLIGHT
TZOFFSETFROM:-0800
TZOFFSETTO:-0700
TZNAME:PDT
DTSTART:20250309T100000
END:DAYLIGHT
BEGIN:STANDARD
TZOFFSETFROM:-0700
TZOFFSETTO:-0800
TZNAME:PST
DTSTART:20251102T090000
END:STANDARD
BEGIN:DAYLIGHT
TZOFFSETFROM:-0800
TZOFFSETTO:-0700
TZNAME:PDT
DTSTART:20260308T100000
END:DAYLIGHT
BEGIN:STANDARD
TZOFFSETFROM:-0700
TZOFFSETTO:-0800
TZNAME:PST
DTSTART:20261101T090000
END:STANDARD
BEGIN:DAYLIGHT
TZOFFSETFROM:-0800
TZOFFSETTO:-0700
TZNAME:PDT
DTSTART:20270314T100000
END:DAYLIGHT
BEGIN:STANDARD
TZOFFSETFROM:-0700
TZOFFSETTO:-0800
TZNAME:PST
DTSTART:20271107T090000
END:STANDARD
END:VTIMEZONE
BEGIN:VEVENT
DTSTART;VALUE=DATE:20251201
DTEND;VALUE=DATE:20260307
DTSTAMP:20260423T120009
CREATED:20250801T010328Z
LAST-MODIFIED:20260227T010634Z
UID:13193-1764547200-1772841599@www.cal-hosa.org
SUMMARY:Scholarships  Application Timeline Extended (Dec. 1\, 2025 - March 6\, 2026)
DESCRIPTION:Board of Director\n\n\nMerit\n\n\nFounders
URL:https://www.cal-hosa.org/event/scholarships-application-timeline-dec-1-2025-feb-26-2026/
CATEGORIES:Deadline,State Leadership Conference
END:VEVENT
BEGIN:VEVENT
DTSTART;VALUE=DATE:20260213
DTEND;VALUE=DATE:20260305
DTSTAMP:20260423T120009
CREATED:20250801T032852Z
LAST-MODIFIED:20250801T032852Z
UID:13219-1770940800-1772668799@www.cal-hosa.org
SUMMARY:SLC Hotel Reservation Timeline (Feb. 13 - March 4\, 2026)
DESCRIPTION:
URL:https://www.cal-hosa.org/event/slc-hotel-reservation-timeline-feb-13-march-4-2026/
CATEGORIES:State Leadership Conference
END:VEVENT
BEGIN:VEVENT
DTSTART;VALUE=DATE:20260304
DTEND;VALUE=DATE:20260305
DTSTAMP:20260423T120009
CREATED:20250801T033834Z
LAST-MODIFIED:20250801T033834Z
UID:13229-1772582400-1772668799@www.cal-hosa.org
SUMMARY:Recognition Events Tracking Hours Deadline (HATS) March 4\, 2026
DESCRIPTION:SLC Barbara James\, HOSA Service Project & American Red Cross & Health Literacy Ambassador DEADLINE Hours submitted and approved 
URL:https://www.cal-hosa.org/event/recognition-events-tracking-hours-deadline-hats-march-4-2026/
CATEGORIES:Deadline,State Leadership Conference
END:VEVENT
BEGIN:VEVENT
DTSTART;TZID=America/Los_Angeles:20260304T080000
DTEND;TZID=America/Los_Angeles:20260304T170000
DTSTAMP:20260423T120009
CREATED:20250801T033712Z
LAST-MODIFIED:20250801T033712Z
UID:13227-1772611200-1772643600@www.cal-hosa.org
SUMMARY:SLC Hotel Reservation DEADLINE (March 4\, 2026)
DESCRIPTION:
URL:https://www.cal-hosa.org/event/slc-hotel-reservation-deadline-march-4-2026/
CATEGORIES:Deadline,State Leadership Conference
END:VEVENT
END:VCALENDAR