BEGIN:VCALENDAR
VERSION:2.0
PRODID:-//Cal-HOSA - ECPv6.15.20//NONSGML v1.0//EN
CALSCALE:GREGORIAN
METHOD:PUBLISH
X-ORIGINAL-URL:https://www.cal-hosa.org
X-WR-CALDESC:Events for Cal-HOSA
REFRESH-INTERVAL;VALUE=DURATION:PT1H
X-Robots-Tag:noindex
X-PUBLISHED-TTL:PT1H
BEGIN:VTIMEZONE
TZID:America/Los_Angeles
BEGIN:DAYLIGHT
TZOFFSETFROM:-0800
TZOFFSETTO:-0700
TZNAME:PDT
DTSTART:20240310T100000
END:DAYLIGHT
BEGIN:STANDARD
TZOFFSETFROM:-0700
TZOFFSETTO:-0800
TZNAME:PST
DTSTART:20241103T090000
END:STANDARD
BEGIN:DAYLIGHT
TZOFFSETFROM:-0800
TZOFFSETTO:-0700
TZNAME:PDT
DTSTART:20250309T100000
END:DAYLIGHT
BEGIN:STANDARD
TZOFFSETFROM:-0700
TZOFFSETTO:-0800
TZNAME:PST
DTSTART:20251102T090000
END:STANDARD
BEGIN:DAYLIGHT
TZOFFSETFROM:-0800
TZOFFSETTO:-0700
TZNAME:PDT
DTSTART:20260308T100000
END:DAYLIGHT
BEGIN:STANDARD
TZOFFSETFROM:-0700
TZOFFSETTO:-0800
TZNAME:PST
DTSTART:20261101T090000
END:STANDARD
END:VTIMEZONE
BEGIN:VEVENT
DTSTART;VALUE=DATE:20250806
DTEND;VALUE=DATE:20251202
DTSTAMP:20260423T120402
CREATED:20250801T000136Z
LAST-MODIFIED:20251113T225647Z
UID:13126-1754438400-1764633599@www.cal-hosa.org
SUMMARY:Chapter Stipend Online Application:  Level 2 - Cal-HOSA Chapter of Merit (Aug. 6 – Dec. 1\, 2025)
DESCRIPTION:Chapter Stipend Online Application:   Level 1: Cal-HOSA High-Quality Chapter  \n                                                                      Level 2: Cal-HOSA Chapter of Merit  \n                                                                      Level 3: Cal-HOSA Chapter of Excellence  \n 
URL:https://www.cal-hosa.org/event/chapter-stipend-online-application-level-2-cal-hosa-chapter-of-merit/
CATEGORIES:Advisors,Deadline
ORGANIZER;CN="California HOSA":MAILTO:info@cal-hosa.org
END:VEVENT
BEGIN:VEVENT
DTSTART;VALUE=DATE:20250806
DTEND;VALUE=DATE:20251002
DTSTAMP:20260423T120402
CREATED:20250801T000017Z
LAST-MODIFIED:20251113T225707Z
UID:13124-1754438400-1759363199@www.cal-hosa.org
SUMMARY:Chapter Stipend Online Application: Level 1- Cal-HOSA High-Quality Chapter (Aug. 6 – Oct. 1\, 2025)
DESCRIPTION:Chapter Stipend Online Application:   Level 1: Cal-HOSA High-Quality Chapter  \n                                                                      Level 2: Cal-HOSA Chapter of Merit  \n                                                                      Level 3: Cal-HOSA Chapter of Excellence  \n 
URL:https://www.cal-hosa.org/event/chapter-stipend-online-application-level-1/
CATEGORIES:Advisors,Deadline
ORGANIZER;CN="California HOSA":MAILTO:info@cal-hosa.org
END:VEVENT
BEGIN:VEVENT
DTSTART;VALUE=DATE:20250801
DTEND;VALUE=DATE:20250901
DTSTAMP:20260423T120402
CREATED:20250731T235751Z
LAST-MODIFIED:20250801T001532Z
UID:13122-1754006400-1756684799@www.cal-hosa.org
SUMMARY:Washington Leadership Academy (WLA) Registration (Aug. 1 – 31\, 2025)
DESCRIPTION:
URL:https://www.cal-hosa.org/event/washington-leadership-academy-wla-registration/
CATEGORIES:Advisors,Deadline
ORGANIZER;CN="California HOSA":MAILTO:info@cal-hosa.org
END:VEVENT
END:VCALENDAR