BEGIN:VCALENDAR
VERSION:2.0
PRODID:-//Cal-HOSA - ECPv6.15.20//NONSGML v1.0//EN
CALSCALE:GREGORIAN
METHOD:PUBLISH
X-ORIGINAL-URL:https://www.cal-hosa.org
X-WR-CALDESC:Events for Cal-HOSA
REFRESH-INTERVAL;VALUE=DURATION:PT1H
X-Robots-Tag:noindex
X-PUBLISHED-TTL:PT1H
BEGIN:VTIMEZONE
TZID:America/Los_Angeles
BEGIN:DAYLIGHT
TZOFFSETFROM:-0800
TZOFFSETTO:-0700
TZNAME:PDT
DTSTART:20240310T100000
END:DAYLIGHT
BEGIN:STANDARD
TZOFFSETFROM:-0700
TZOFFSETTO:-0800
TZNAME:PST
DTSTART:20241103T090000
END:STANDARD
BEGIN:DAYLIGHT
TZOFFSETFROM:-0800
TZOFFSETTO:-0700
TZNAME:PDT
DTSTART:20250309T100000
END:DAYLIGHT
BEGIN:STANDARD
TZOFFSETFROM:-0700
TZOFFSETTO:-0800
TZNAME:PST
DTSTART:20251102T090000
END:STANDARD
BEGIN:DAYLIGHT
TZOFFSETFROM:-0800
TZOFFSETTO:-0700
TZNAME:PDT
DTSTART:20260308T100000
END:DAYLIGHT
BEGIN:STANDARD
TZOFFSETFROM:-0700
TZOFFSETTO:-0800
TZNAME:PST
DTSTART:20261101T090000
END:STANDARD
END:VTIMEZONE
BEGIN:VEVENT
DTSTART;VALUE=DATE:20250821
DTEND;VALUE=DATE:20251004
DTSTAMP:20260424T023737
CREATED:20250801T002142Z
LAST-MODIFIED:20250801T003502Z
UID:13142-1755734400-1759535999@www.cal-hosa.org
SUMMARY:Fall Leadership Conference (FLC) Registration Oct. 18\, 2025 (Aug. 21 - Oct. 3\, 2025)
DESCRIPTION:Locations\n\n\n\nRegion 4\nValencia HS\, Valencia\n\n\nRegion 5\nValhalla HS\, El Cajon
URL:https://www.cal-hosa.org/event/fall-leadership-conference-flc-registration-oct-18-2025-aug-21-oct-3-2025/
CATEGORIES:Advisors,Deadline,Fall Leadership Conference
END:VEVENT
BEGIN:VEVENT
DTSTART;VALUE=DATE:20250821
DTEND;VALUE=DATE:20251011
DTSTAMP:20260424T023737
CREATED:20250801T002347Z
LAST-MODIFIED:20250801T003444Z
UID:13144-1755734400-1760140799@www.cal-hosa.org
SUMMARY:Fall Leadership Conference (FLC) Registration Oct. 25\, 2025 (Aug. 21 - Oct. 10\, 2025)
DESCRIPTION:Locations\n\n\n\nRegion 1\nManteca HS\, Manteca\n\n\nRegion 2\nHollister HS\, Hollister\n\n\nRegion 3\nBuhach Colony HS\, Atwater
URL:https://www.cal-hosa.org/event/fall-leadership-conference-flc-registration-oct-25-2025-aug-21-oct-10-2025/
CATEGORIES:Advisors,Deadline,Fall Leadership Conference
END:VEVENT
END:VCALENDAR