BEGIN:VCALENDAR
VERSION:2.0
PRODID:-//Cal-HOSA - ECPv6.15.20//NONSGML v1.0//EN
CALSCALE:GREGORIAN
METHOD:PUBLISH
X-ORIGINAL-URL:https://www.cal-hosa.org
X-WR-CALDESC:Events for Cal-HOSA
REFRESH-INTERVAL;VALUE=DURATION:PT1H
X-Robots-Tag:noindex
X-PUBLISHED-TTL:PT1H
BEGIN:VTIMEZONE
TZID:America/Los_Angeles
BEGIN:DAYLIGHT
TZOFFSETFROM:-0800
TZOFFSETTO:-0700
TZNAME:PDT
DTSTART:20240310T100000
END:DAYLIGHT
BEGIN:STANDARD
TZOFFSETFROM:-0700
TZOFFSETTO:-0800
TZNAME:PST
DTSTART:20241103T090000
END:STANDARD
BEGIN:DAYLIGHT
TZOFFSETFROM:-0800
TZOFFSETTO:-0700
TZNAME:PDT
DTSTART:20250309T100000
END:DAYLIGHT
BEGIN:STANDARD
TZOFFSETFROM:-0700
TZOFFSETTO:-0800
TZNAME:PST
DTSTART:20251102T090000
END:STANDARD
BEGIN:DAYLIGHT
TZOFFSETFROM:-0800
TZOFFSETTO:-0700
TZNAME:PDT
DTSTART:20260308T100000
END:DAYLIGHT
BEGIN:STANDARD
TZOFFSETFROM:-0700
TZOFFSETTO:-0800
TZNAME:PST
DTSTART:20261101T090000
END:STANDARD
END:VTIMEZONE
BEGIN:VEVENT
DTSTART;VALUE=DATE:20251115
DTEND;VALUE=DATE:20251116
DTSTAMP:20260423T144613
CREATED:20250801T004653Z
LAST-MODIFIED:20250801T005205Z
UID:13174-1763164800-1763251199@www.cal-hosa.org
SUMMARY:(FLC) November 15\, 2025 (click to see locations)
DESCRIPTION:Locations:\n\n\n\nRegion 1\nRiver City HS\, West Sacramento\,\n11/15/2025\n\n\nRegion 2\nLas Lomas HS Walnut Creek\n11/15/2025\n\n\nRegion 3\nMadera South HS\, Madera\n11/15/2025
URL:https://www.cal-hosa.org/event/fall-leadership-conference-flc-november-15-2025/
CATEGORIES:Fall Leadership Conference
END:VEVENT
BEGIN:VEVENT
DTSTART;VALUE=DATE:20251025
DTEND;VALUE=DATE:20251026
DTSTAMP:20260423T144613
CREATED:20250801T004605Z
LAST-MODIFIED:20250801T005224Z
UID:13172-1761350400-1761436799@www.cal-hosa.org
SUMMARY:(FLC) October 25\, 2025 (click to see locations)
DESCRIPTION:Locations:\n\n\n\nRegion 1\nManteca HS\, Manteca\n10/25/2025\n\n\nRegion 2\nHollister HS\, Hollister\n10/25/2025\n\n\nRegion 3\nBuhach Colony HS\, Atwater\n10/25/2025
URL:https://www.cal-hosa.org/event/fall-leadership-conference-flc-october-25-2025/
CATEGORIES:Fall Leadership Conference
END:VEVENT
BEGIN:VEVENT
DTSTART;VALUE=DATE:20251018
DTEND;VALUE=DATE:20251019
DTSTAMP:20260423T144613
CREATED:20250801T004448Z
LAST-MODIFIED:20250820T230318Z
UID:13170-1760745600-1760831999@www.cal-hosa.org
SUMMARY:(FLC) October 18\, 2025 (click to see locations)
DESCRIPTION:Locations\n\n\n\nRegion 4\nValencia HS\, Valencia\n10/18/2025\n\n\nRegion 4\nApplied Technology Center\, Montebello\n10/18/2025\n\n\nRegion 5\nValhalla HS\, El Cajon\n10/18/2025
URL:https://www.cal-hosa.org/event/fall-leadership-conference-flc-october-18-2025/
CATEGORIES:Fall Leadership Conference
END:VEVENT
BEGIN:VEVENT
DTSTART;VALUE=DATE:20250821
DTEND;VALUE=DATE:20251011
DTSTAMP:20260423T144613
CREATED:20250801T002347Z
LAST-MODIFIED:20250801T003444Z
UID:13144-1755734400-1760140799@www.cal-hosa.org
SUMMARY:Fall Leadership Conference (FLC) Registration Oct. 25\, 2025 (Aug. 21 - Oct. 10\, 2025)
DESCRIPTION:Locations\n\n\n\nRegion 1\nManteca HS\, Manteca\n\n\nRegion 2\nHollister HS\, Hollister\n\n\nRegion 3\nBuhach Colony HS\, Atwater
URL:https://www.cal-hosa.org/event/fall-leadership-conference-flc-registration-oct-25-2025-aug-21-oct-10-2025/
CATEGORIES:Advisors,Deadline,Fall Leadership Conference
END:VEVENT
BEGIN:VEVENT
DTSTART;VALUE=DATE:20250821
DTEND;VALUE=DATE:20251004
DTSTAMP:20260423T144613
CREATED:20250801T002142Z
LAST-MODIFIED:20250801T003502Z
UID:13142-1755734400-1759535999@www.cal-hosa.org
SUMMARY:Fall Leadership Conference (FLC) Registration Oct. 18\, 2025 (Aug. 21 - Oct. 3\, 2025)
DESCRIPTION:Locations\n\n\n\nRegion 4\nValencia HS\, Valencia\n\n\nRegion 5\nValhalla HS\, El Cajon
URL:https://www.cal-hosa.org/event/fall-leadership-conference-flc-registration-oct-18-2025-aug-21-oct-3-2025/
CATEGORIES:Advisors,Deadline,Fall Leadership Conference
END:VEVENT
END:VCALENDAR