BEGIN:VCALENDAR
VERSION:2.0
PRODID:-//Cal-HOSA - ECPv6.15.20//NONSGML v1.0//EN
CALSCALE:GREGORIAN
METHOD:PUBLISH
X-ORIGINAL-URL:https://www.cal-hosa.org
X-WR-CALDESC:Events for Cal-HOSA
REFRESH-INTERVAL;VALUE=DURATION:PT1H
X-Robots-Tag:noindex
X-PUBLISHED-TTL:PT1H
BEGIN:VTIMEZONE
TZID:America/Los_Angeles
BEGIN:DAYLIGHT
TZOFFSETFROM:-0800
TZOFFSETTO:-0700
TZNAME:PDT
DTSTART:20240310T100000
END:DAYLIGHT
BEGIN:STANDARD
TZOFFSETFROM:-0700
TZOFFSETTO:-0800
TZNAME:PST
DTSTART:20241103T090000
END:STANDARD
BEGIN:DAYLIGHT
TZOFFSETFROM:-0800
TZOFFSETTO:-0700
TZNAME:PDT
DTSTART:20250309T100000
END:DAYLIGHT
BEGIN:STANDARD
TZOFFSETFROM:-0700
TZOFFSETTO:-0800
TZNAME:PST
DTSTART:20251102T090000
END:STANDARD
BEGIN:DAYLIGHT
TZOFFSETFROM:-0800
TZOFFSETTO:-0700
TZNAME:PDT
DTSTART:20260308T100000
END:DAYLIGHT
BEGIN:STANDARD
TZOFFSETFROM:-0700
TZOFFSETTO:-0800
TZNAME:PST
DTSTART:20261101T090000
END:STANDARD
BEGIN:DAYLIGHT
TZOFFSETFROM:-0800
TZOFFSETTO:-0700
TZNAME:PDT
DTSTART:20270314T100000
END:DAYLIGHT
BEGIN:STANDARD
TZOFFSETFROM:-0700
TZOFFSETTO:-0800
TZNAME:PST
DTSTART:20271107T090000
END:STANDARD
END:VTIMEZONE
BEGIN:VEVENT
DTSTART;VALUE=DATE:20260119
DTEND;VALUE=DATE:20260120
DTSTAMP:20260423T145114
CREATED:20250801T031500Z
LAST-MODIFIED:20250801T031500Z
UID:13205-1768780800-1768867199@www.cal-hosa.org
SUMMARY:CE State Qualifier Event & Affiliation Payment DEADLINE  (Jan. 19\, 2026)
DESCRIPTION:
URL:https://www.cal-hosa.org/event/ce-state-qualifier-event-affiliation-payment-deadline-jan-19-2026/
CATEGORIES:Affiliation,Deadline,Regional Leadership Conference
END:VEVENT
BEGIN:VEVENT
DTSTART;TZID=America/Los_Angeles:20260117T090000
DTEND;TZID=America/Los_Angeles:20260117T090000
DTSTAMP:20260423T145114
CREATED:20250801T011304Z
LAST-MODIFIED:20250801T011304Z
UID:13203-1768640400-1768640400@www.cal-hosa.org
SUMMARY:CE State Qualifier Event ZOOM Extemp Health Poster\, Extemp Writing (Jan. 17\, 2026)
DESCRIPTION:CE State Qualifier Event  \nZOOM Secret Topic for Extemporaneous Health Poster 9:00 am  \n  \nCE State Qualifier Event  \nZOOM Secret Topic for Extemporaneous Writing 9:00 am
URL:https://www.cal-hosa.org/event/ce-state-qualifier-event-zoom-extemp-health-poster-extemp-writing-jan-17-2026/
CATEGORIES:Regional Leadership Conference
END:VEVENT
BEGIN:VEVENT
DTSTART;TZID=America/Los_Angeles:20260114T080000
DTEND;TZID=America/Los_Angeles:20260114T220000
DTSTAMP:20260423T145114
CREATED:20250801T010955Z
LAST-MODIFIED:20250801T010955Z
UID:13201-1768377600-1768428000@www.cal-hosa.org
SUMMARY:CE State Qualifier Event using Digital Upload System DEADLINE (Jan. 14\, @10:00 pm)
DESCRIPTION:CE State Qualifier Event using Digital Upload System DEADLINE 10:00 pm  \n All Cal-HOSA required uploads by 10:00 pm  \nAll Divisions – PS\, SS & MS 
URL:https://www.cal-hosa.org/event/ce-state-qualifier-event-using-digital-upload-system-deadline-jan-14-1000-pm/
CATEGORIES:Deadline,Regional Leadership Conference
END:VEVENT
BEGIN:VEVENT
DTSTART;VALUE=DATE:20260112
DTEND;VALUE=DATE:20260117
DTSTAMP:20260423T145114
CREATED:20250801T010831Z
LAST-MODIFIED:20250801T010831Z
UID:13199-1768176000-1768607999@www.cal-hosa.org
SUMMARY:CE State Qualifier Event Online Testing (Jan. 12 - 16\, 2026)
DESCRIPTION:CE State Qualifier Event Online Testing   \nTesting at the local chapter school site with proctors  \nTesting DEADLINE January 16\, 2026\, at 10:00 pm 
URL:https://www.cal-hosa.org/event/ce-state-qualifier-event-online-testing-jan-12-16-2026/
CATEGORIES:Regional Leadership Conference
END:VEVENT
BEGIN:VEVENT
DTSTART;TZID=America/Los_Angeles:20260107T080000
DTEND;TZID=America/Los_Angeles:20260107T180000
DTSTAMP:20260423T145114
CREATED:20250801T010712Z
LAST-MODIFIED:20250801T010712Z
UID:13197-1767772800-1767808800@www.cal-hosa.org
SUMMARY:CE State Qualifier Event Testing Proctor Email (Jan. 7\, 2026)
DESCRIPTION:CE State Qualifier Event Testing Proctor Email with Competitors login and Advisor information sent
URL:https://www.cal-hosa.org/event/ce-state-qualifier-event-testing-proctor-email-jan-7-2026/
CATEGORIES:Deadline,Regional Leadership Conference
END:VEVENT
BEGIN:VEVENT
DTSTART;TZID=America/Los_Angeles:20251215T080000
DTEND;TZID=America/Los_Angeles:20251215T220000
DTSTAMP:20260423T145114
CREATED:20250801T010502Z
LAST-MODIFIED:20250801T010502Z
UID:13195-1765785600-1765836000@www.cal-hosa.org
SUMMARY:CE State Qualifier Event Registration DEADLINE (Dec. 15\, 2025)
DESCRIPTION:CE State Qualifier Event Registration & Proctor Designation DEADLINE  \nNO cancellations or refunds after 10:00 pm 
URL:https://www.cal-hosa.org/event/ce-state-qualifier-event-registration-deadline-dec-15-2025/
CATEGORIES:Deadline,Regional Leadership Conference
END:VEVENT
BEGIN:VEVENT
DTSTART;VALUE=DATE:20251020
DTEND;VALUE=DATE:20251216
DTSTAMP:20260423T145114
CREATED:20250801T005556Z
LAST-MODIFIED:20250801T005556Z
UID:13183-1760918400-1765843199@www.cal-hosa.org
SUMMARY:CE State Qualifier Event (formerly called RCE) Registration (Oct. 20 - Dec. 15\, 2025)
DESCRIPTION: CE State Qualifier Event (formerly called RCE) Registration & Proctor Designation  \nMandatory Event for SLC Competitive Events  
URL:https://www.cal-hosa.org/event/ce-state-qualifier-event-formerly-called-rce-registration-oct-20-dec-15-2025/
CATEGORIES:Advisors,Deadline,Regional Leadership Conference
END:VEVENT
END:VCALENDAR