BEGIN:VCALENDAR
VERSION:2.0
PRODID:-//Cal-HOSA - ECPv6.15.20//NONSGML v1.0//EN
CALSCALE:GREGORIAN
METHOD:PUBLISH
X-WR-CALNAME:Cal-HOSA
X-ORIGINAL-URL:https://www.cal-hosa.org
X-WR-CALDESC:Events for Cal-HOSA
REFRESH-INTERVAL;VALUE=DURATION:PT1H
X-Robots-Tag:noindex
X-PUBLISHED-TTL:PT1H
BEGIN:VTIMEZONE
TZID:America/Los_Angeles
BEGIN:DAYLIGHT
TZOFFSETFROM:-0800
TZOFFSETTO:-0700
TZNAME:PDT
DTSTART:20240310T100000
END:DAYLIGHT
BEGIN:STANDARD
TZOFFSETFROM:-0700
TZOFFSETTO:-0800
TZNAME:PST
DTSTART:20241103T090000
END:STANDARD
BEGIN:DAYLIGHT
TZOFFSETFROM:-0800
TZOFFSETTO:-0700
TZNAME:PDT
DTSTART:20250309T100000
END:DAYLIGHT
BEGIN:STANDARD
TZOFFSETFROM:-0700
TZOFFSETTO:-0800
TZNAME:PST
DTSTART:20251102T090000
END:STANDARD
BEGIN:DAYLIGHT
TZOFFSETFROM:-0800
TZOFFSETTO:-0700
TZNAME:PDT
DTSTART:20260308T100000
END:DAYLIGHT
BEGIN:STANDARD
TZOFFSETFROM:-0700
TZOFFSETTO:-0800
TZNAME:PST
DTSTART:20261101T090000
END:STANDARD
BEGIN:DAYLIGHT
TZOFFSETFROM:-0800
TZOFFSETTO:-0700
TZNAME:PDT
DTSTART:20270314T100000
END:DAYLIGHT
BEGIN:STANDARD
TZOFFSETFROM:-0700
TZOFFSETTO:-0800
TZNAME:PST
DTSTART:20271107T090000
END:STANDARD
END:VTIMEZONE
BEGIN:VEVENT
DTSTART;TZID=America/Los_Angeles:20260328T210000
DTEND;TZID=America/Los_Angeles:20260328T210000
DTSTAMP:20260423T120402
CREATED:20250801T034553Z
LAST-MODIFIED:20250801T034553Z
UID:13237-1774731600-1774731600@www.cal-hosa.org
SUMMARY:Mandatory Advisor ILC meeting after awards (March 28\, 2026)
DESCRIPTION:
URL:https://www.cal-hosa.org/event/mandatory-advisor-ilc-meeting-after-awards-march-28-2026/
CATEGORIES:International Leadership Conference,State Leadership Conference
END:VEVENT
BEGIN:VEVENT
DTSTART;VALUE=DATE:20260326
DTEND;VALUE=DATE:20260329
DTSTAMP:20260423T120402
CREATED:20250801T034431Z
LAST-MODIFIED:20250801T034431Z
UID:13235-1774483200-1774742399@www.cal-hosa.org
SUMMARY:SLC 2026 – Ontario Convention Center (Conference starts at 9:00 am *Tentative*) (March 26-28\, 2026)
DESCRIPTION:SLC 2026 – Ontario Convention Center (Conference starts at 9:00 am *Tentative*) (March 26-28\, 2026)
URL:https://www.cal-hosa.org/event/slc-2026-ontario-convention-center-conference-starts-at-900-am-tentative-march-26-28-2026/
CATEGORIES:State Leadership Conference
END:VEVENT
BEGIN:VEVENT
DTSTART;VALUE=DATE:20260326
DTEND;VALUE=DATE:20260329
DTSTAMP:20260423T120402
CREATED:20250508T201602Z
LAST-MODIFIED:20250508T201646Z
UID:12941-1774483200-1774742399@www.cal-hosa.org
SUMMARY:2026 Cal-HOSA SLC March 26-28\, 2026 in Ontario
DESCRIPTION:
URL:https://www.cal-hosa.org/event/slc-march-26-28-2026-in-ontario/
CATEGORIES:Advisors,State Leadership Conference
END:VEVENT
BEGIN:VEVENT
DTSTART;VALUE=DATE:20260312
DTEND;VALUE=DATE:20260313
DTSTAMP:20260423T120402
CREATED:20250801T034318Z
LAST-MODIFIED:20250801T034318Z
UID:13233-1773273600-1773359999@www.cal-hosa.org
SUMMARY:All Cal-HOSA REQUIRED FORMS DEADLINE Online Submissions (March 12\, 2026)
DESCRIPTION:All Cal-HOSA REQUIRED FORMS DEADLINE Online Submissions  \nAdvisor & Student Code of Conduct\, Medical Release and Student Social Agreement\, & Photo Release 
URL:https://www.cal-hosa.org/event/all-cal-hosa-required-forms-deadline-online-submissions-march-12-2026/
CATEGORIES:Deadline,State Leadership Conference
END:VEVENT
BEGIN:VEVENT
DTSTART;VALUE=DATE:20260312
DTEND;VALUE=DATE:20260313
DTSTAMP:20260423T120402
CREATED:20250801T034154Z
LAST-MODIFIED:20250801T034154Z
UID:13231-1773273600-1773359999@www.cal-hosa.org
SUMMARY:SLC Payment DEADLINE (March 12\, 2026)
DESCRIPTION:
URL:https://www.cal-hosa.org/event/slc-payment-deadline-march-12-2026/
CATEGORIES:Deadline,State Leadership Conference
END:VEVENT
BEGIN:VEVENT
DTSTART;TZID=America/Los_Angeles:20260306T080000
DTEND;TZID=America/Los_Angeles:20260306T180000
DTSTAMP:20260423T120402
CREATED:20250801T033608Z
LAST-MODIFIED:20260227T010536Z
UID:13225-1772784000-1772820000@www.cal-hosa.org
SUMMARY:Scholarships Application DEADLINE Extended (March 6\, 2026 @ 6:00 pm)
DESCRIPTION:Board of Director\n\n\nMerit \n\n\nFounders
URL:https://www.cal-hosa.org/event/scholarships-application-deadline-feb-26-2026-600-pm/
CATEGORIES:Deadline,State Leadership Conference
END:VEVENT
BEGIN:VEVENT
DTSTART;TZID=America/Los_Angeles:20260304T080000
DTEND;TZID=America/Los_Angeles:20260304T170000
DTSTAMP:20260423T120402
CREATED:20250801T033712Z
LAST-MODIFIED:20250801T033712Z
UID:13227-1772611200-1772643600@www.cal-hosa.org
SUMMARY:SLC Hotel Reservation DEADLINE (March 4\, 2026)
DESCRIPTION:
URL:https://www.cal-hosa.org/event/slc-hotel-reservation-deadline-march-4-2026/
CATEGORIES:Deadline,State Leadership Conference
END:VEVENT
BEGIN:VEVENT
DTSTART;VALUE=DATE:20260304
DTEND;VALUE=DATE:20260305
DTSTAMP:20260423T120402
CREATED:20250801T033834Z
LAST-MODIFIED:20250801T033834Z
UID:13229-1772582400-1772668799@www.cal-hosa.org
SUMMARY:Recognition Events Tracking Hours Deadline (HATS) March 4\, 2026
DESCRIPTION:SLC Barbara James\, HOSA Service Project & American Red Cross & Health Literacy Ambassador DEADLINE Hours submitted and approved 
URL:https://www.cal-hosa.org/event/recognition-events-tracking-hours-deadline-hats-march-4-2026/
CATEGORIES:Deadline,State Leadership Conference
END:VEVENT
BEGIN:VEVENT
DTSTART;VALUE=DATE:20260223
DTEND;VALUE=DATE:20260228
DTSTAMP:20260423T120402
CREATED:20250801T033418Z
LAST-MODIFIED:20250801T033418Z
UID:13223-1771804800-1772236799@www.cal-hosa.org
SUMMARY:State Officer & IEC Candidate Testing (Feb. 23-27\, 2026)
DESCRIPTION:State Officer & IEC Candidate Testing  \n(Candidate State Officer Test & Organizational Leadership test) Testing at local chapter school site with proctor  \nTesting DEADLINE is February 27\, 2026 at 6:00 pm 
URL:https://www.cal-hosa.org/event/state-officer-iec-candidate-testing-feb-23-27-2026/
CATEGORIES:Deadline,State Leadership Conference,State Officiers
END:VEVENT
BEGIN:VEVENT
DTSTART;VALUE=DATE:20260223
DTEND;VALUE=DATE:20260228
DTSTAMP:20260423T120402
CREATED:20250801T033308Z
LAST-MODIFIED:20250801T033308Z
UID:13221-1771804800-1772236799@www.cal-hosa.org
SUMMARY:Healthcare Issues Exam & Organizational Leadership Test ONLINE (Feb. 23-27\, 2026)
DESCRIPTION:Healthcare Issues Exam Online & Organizational Leadership test at your local chapter with proctor   \n            Testing DEADLINE is February 27\, 2026 by 6:00 pm   
URL:https://www.cal-hosa.org/event/healthcare-issues-exam-organizational-leadership-test-online-feb-23-27-2026/
CATEGORIES:Deadline,State Leadership Conference
END:VEVENT
BEGIN:VEVENT
DTSTART;VALUE=DATE:20260213
DTEND;VALUE=DATE:20260305
DTSTAMP:20260423T120402
CREATED:20250801T032852Z
LAST-MODIFIED:20250801T032852Z
UID:13219-1770940800-1772668799@www.cal-hosa.org
SUMMARY:SLC Hotel Reservation Timeline (Feb. 13 - March 4\, 2026)
DESCRIPTION:
URL:https://www.cal-hosa.org/event/slc-hotel-reservation-timeline-feb-13-march-4-2026/
CATEGORIES:State Leadership Conference
END:VEVENT
BEGIN:VEVENT
DTSTART;TZID=America/Los_Angeles:20260212T080000
DTEND;TZID=America/Los_Angeles:20260212T235900
DTSTAMP:20260423T120402
CREATED:20250801T032613Z
LAST-MODIFIED:20250801T032613Z
UID:13217-1770883200-1770940740@www.cal-hosa.org
SUMMARY:SLC Registration DEADLINE (Feb. 12\, 2026)
DESCRIPTION:SLC Registration DEADLINE  \n          NO SLC cancellations or refunds after 11:59 pm 
URL:https://www.cal-hosa.org/event/slc-registration-deadline-feb-12-2026/
CATEGORIES:Deadline,State Leadership Conference
END:VEVENT
BEGIN:VEVENT
DTSTART;TZID=America/Los_Angeles:20260205T160000
DTEND;TZID=America/Los_Angeles:20260205T160000
DTSTAMP:20260423T120402
CREATED:20250801T032459Z
LAST-MODIFIED:20250801T032459Z
UID:13215-1770307200-1770307200@www.cal-hosa.org
SUMMARY:ZOOM SLC Advisor ONLY Information Meeting Feb. 5\, 2026 @ 4:00 pm
DESCRIPTION:
URL:https://www.cal-hosa.org/event/zoom-slc-advisor-only-information-meeting-feb-5-2026-400-pm/
CATEGORIES:Meeting,State Leadership Conference
END:VEVENT
BEGIN:VEVENT
DTSTART;TZID=America/Los_Angeles:20260202T080000
DTEND;TZID=America/Los_Angeles:20260202T220000
DTSTAMP:20260423T120402
CREATED:20250801T032151Z
LAST-MODIFIED:20250801T032151Z
UID:13211-1770019200-1770069600@www.cal-hosa.org
SUMMARY:National Anthem/Patriotic Song Submission DEADLINE is (Feb. 2\, 2026 @ 10:00 pm)
DESCRIPTION:
URL:https://www.cal-hosa.org/event/national-anthem-patriotic-song-submission-deadline-is-feb-2-2026-1000-pm/
CATEGORIES:Deadline,State Leadership Conference
END:VEVENT
BEGIN:VEVENT
DTSTART;VALUE=DATE:20260202
DTEND;VALUE=DATE:20260213
DTSTAMP:20260423T120402
CREATED:20250801T032015Z
LAST-MODIFIED:20250801T032015Z
UID:13209-1769990400-1770940799@www.cal-hosa.org
SUMMARY:SLC Registration Timeline (Feb. 2 - 12\, 2026)
DESCRIPTION:SLC Registration & confirm proctors for online testing for the events listed here. \nONLY tests ONLINE for SLC – All other tests will be done at the SLC Conference \n\nState Officer\nIEC\nOrganizational Leadership \nHealthcare Issues Exam
URL:https://www.cal-hosa.org/event/slc-registration-timeline-feb-2-12-2026/
CATEGORIES:State Leadership Conference
END:VEVENT
BEGIN:VEVENT
DTSTART;TZID=America/Los_Angeles:20260128T080000
DTEND;TZID=America/Los_Angeles:20260128T190000
DTSTAMP:20260423T120402
CREATED:20250801T031650Z
LAST-MODIFIED:20250801T031650Z
UID:13207-1769587200-1769626800@www.cal-hosa.org
SUMMARY:CE State Qualifier Event competitors posted (Jan. 28\, 2026)
DESCRIPTION:CE State Qualifier Event competitors posted on   Secure Cal-HOSA Website  \nAdvisors responsible for checking website and notifying students. 
URL:https://www.cal-hosa.org/event/ce-state-qualifier-event-competitors-posted-jan-28-2026/
CATEGORIES:State Leadership Conference
END:VEVENT
BEGIN:VEVENT
DTSTART;VALUE=DATE:20251201
DTEND;VALUE=DATE:20260307
DTSTAMP:20260423T120402
CREATED:20250801T010328Z
LAST-MODIFIED:20260227T010634Z
UID:13193-1764547200-1772841599@www.cal-hosa.org
SUMMARY:Scholarships  Application Timeline Extended (Dec. 1\, 2025 - March 6\, 2026)
DESCRIPTION:Board of Director\n\n\nMerit\n\n\nFounders
URL:https://www.cal-hosa.org/event/scholarships-application-timeline-dec-1-2025-feb-26-2026/
CATEGORIES:Deadline,State Leadership Conference
END:VEVENT
BEGIN:VEVENT
DTSTART;VALUE=DATE:20251201
DTEND;VALUE=DATE:20260204
DTSTAMP:20260423T120402
CREATED:20250801T010147Z
LAST-MODIFIED:20260202T205504Z
UID:13191-1764547200-1770163199@www.cal-hosa.org
SUMMARY:Talent Show Submission Timeline  (Dec. 1\, 2025 - Feb. 3\, 2026)
DESCRIPTION:
URL:https://www.cal-hosa.org/event/talent-show-submission-timeline-dec-1-2025-feb-2-2026/
CATEGORIES:Deadline,State Leadership Conference
END:VEVENT
BEGIN:VEVENT
DTSTART;VALUE=DATE:20251201
DTEND;VALUE=DATE:20260203
DTSTAMP:20260423T120402
CREATED:20250801T010039Z
LAST-MODIFIED:20250801T010039Z
UID:13189-1764547200-1770076799@www.cal-hosa.org
SUMMARY:Special Nominations Timeline (Dec. 1\, 2025 - Feb. 2\, 2026)
DESCRIPTION:Special Nominations \n\nAdvisor of the year\nAlumni of the year\nIndustry Partner of the year\nAdministrator of the year\n\nBoard of Director Applications due 
URL:https://www.cal-hosa.org/event/special-nominations-timeline-dec-1-2025-feb-2-2026/
CATEGORIES:Advisors,Deadline,State Leadership Conference
END:VEVENT
BEGIN:VEVENT
DTSTART;TZID=America/Los_Angeles:20251118T080000
DTEND;TZID=America/Los_Angeles:20251118T180000
DTSTAMP:20260423T120402
CREATED:20250801T005707Z
LAST-MODIFIED:20250801T005707Z
UID:13185-1763452800-1763488800@www.cal-hosa.org
SUMMARY:SLC Pin Design Submission Timeline DEADLINE (Nov. 18\, 2025 @ 6:00 pm)
DESCRIPTION:
URL:https://www.cal-hosa.org/event/slc-pin-design-submission-timeline-deadline-nov-18-2025-600-pm/
CATEGORIES:Deadline,State Leadership Conference
END:VEVENT
BEGIN:VEVENT
DTSTART;VALUE=DATE:20251018
DTEND;VALUE=DATE:20251119
DTSTAMP:20260423T120402
CREATED:20250801T004333Z
LAST-MODIFIED:20250801T004333Z
UID:13168-1760745600-1763510399@www.cal-hosa.org
SUMMARY:(SLC) Pin Design Submission Timeline (40th Year) - (Oct. 18 - Nov. 18\, 2025)
DESCRIPTION:
URL:https://www.cal-hosa.org/event/slc-pin-design-submission-timeline-40th-year-oct-18-nov-18-2025/
CATEGORIES:Advisors,Deadline,State Leadership Conference
END:VEVENT
END:VCALENDAR