BEGIN:VCALENDAR
VERSION:2.0
PRODID:-//Cal-HOSA - ECPv6.15.20//NONSGML v1.0//EN
CALSCALE:GREGORIAN
METHOD:PUBLISH
X-ORIGINAL-URL:https://www.cal-hosa.org
X-WR-CALDESC:Events for Cal-HOSA
REFRESH-INTERVAL;VALUE=DURATION:PT1H
X-Robots-Tag:noindex
X-PUBLISHED-TTL:PT1H
BEGIN:VTIMEZONE
TZID:America/Los_Angeles
BEGIN:DAYLIGHT
TZOFFSETFROM:-0800
TZOFFSETTO:-0700
TZNAME:PDT
DTSTART:20250309T100000
END:DAYLIGHT
BEGIN:STANDARD
TZOFFSETFROM:-0700
TZOFFSETTO:-0800
TZNAME:PST
DTSTART:20251102T090000
END:STANDARD
BEGIN:DAYLIGHT
TZOFFSETFROM:-0800
TZOFFSETTO:-0700
TZNAME:PDT
DTSTART:20260308T100000
END:DAYLIGHT
BEGIN:STANDARD
TZOFFSETFROM:-0700
TZOFFSETTO:-0800
TZNAME:PST
DTSTART:20261101T090000
END:STANDARD
BEGIN:DAYLIGHT
TZOFFSETFROM:-0800
TZOFFSETTO:-0700
TZNAME:PDT
DTSTART:20270314T100000
END:DAYLIGHT
BEGIN:STANDARD
TZOFFSETFROM:-0700
TZOFFSETTO:-0800
TZNAME:PST
DTSTART:20271107T090000
END:STANDARD
END:VTIMEZONE
BEGIN:VEVENT
DTSTART;VALUE=DATE:20260506
DTEND;VALUE=DATE:20260507
DTSTAMP:20260423T120522
CREATED:20250801T034848Z
LAST-MODIFIED:20250801T034908Z
UID:13241-1778025600-1778111999@www.cal-hosa.org
SUMMARY:ILC - California Registration Closes (Chapters Blocked) (May 6\, 2026)
DESCRIPTION:This means no changes after May 6\,2026 for ILC except for special situations. \nContact Headquarters to request a change.
URL:https://www.cal-hosa.org/event/ilc-california-registration-closes-chapters-blocked-may-6-2026/
CATEGORIES:Deadline,International Leadership Conference
END:VEVENT
BEGIN:VEVENT
DTSTART;VALUE=DATE:20260603
DTEND;VALUE=DATE:20260604
DTSTAMP:20260423T120522
CREATED:20250801T034952Z
LAST-MODIFIED:20250801T034952Z
UID:13243-1780444800-1780531199@www.cal-hosa.org
SUMMARY:ILC - Payment Submission DEADLINE (June 3\, 2026)
DESCRIPTION:
URL:https://www.cal-hosa.org/event/ilc-payment-submission-deadline-june-3-2026/
CATEGORIES:Deadline,International Leadership Conference
END:VEVENT
BEGIN:VEVENT
DTSTART;TZID=America/Los_Angeles:20260610T160000
DTEND;TZID=America/Los_Angeles:20260610T160000
DTSTAMP:20260423T120522
CREATED:20250801T035059Z
LAST-MODIFIED:20250801T035059Z
UID:13245-1781107200-1781107200@www.cal-hosa.org
SUMMARY:Mandatory Advisor ILC Update Meeting June 10\, 2026 @ 4:00 pm
DESCRIPTION:
URL:https://www.cal-hosa.org/event/mandatory-advisor-ilc-update-meeting-june-10-2026-400-pm/
CATEGORIES:International Leadership Conference,Meeting
END:VEVENT
BEGIN:VEVENT
DTSTART;VALUE=DATE:20260617
DTEND;VALUE=DATE:20260621
DTSTAMP:20260423T120522
CREATED:20250801T035157Z
LAST-MODIFIED:20250801T035157Z
UID:13247-1781654400-1781999999@www.cal-hosa.org
SUMMARY:ILC – Indianapolis Convention Center\, Indianapolis\, IN (June 17-20\, 2026)
DESCRIPTION:
URL:https://www.cal-hosa.org/event/ilc-indianapolis-convention-center-indianapolis-in-june-17-20-2026/
CATEGORIES:International Leadership Conference
END:VEVENT
END:VCALENDAR